BEGIN:VCALENDAR
VERSION:2.0
PRODID:icalendar-ruby
CALSCALE:GREGORIAN
METHOD:PUBLISH
BEGIN:VEVENT
DTSTAMP:20260423T231754Z
UID:16-1556673@secondbaptistwf.org
DTSTART:20261101T143000Z
DTEND:20261101T150000Z
CLASS:PUBLIC
CREATED:20260423T161420
DESCRIPTION:
LAST-MODIFIED:20260423T161420
LOCATION:
SUMMARY:Prayer Meeting
URL;VALUE=URI:https://www.secondbaptistwf.org/events/prayer-meeting/2026-11
 -01
END:VEVENT
END:VCALENDAR
