BEGIN:VCALENDAR
VERSION:2.0
PRODID:icalendar-ruby
CALSCALE:GREGORIAN
METHOD:PUBLISH
BEGIN:VEVENT
DTSTAMP:20260423T184945Z
UID:16-1556003@secondbaptistwf.org
DTSTART:20261011T133000Z
DTEND:20261011T140000Z
CLASS:PUBLIC
CREATED:20260423T131924
DESCRIPTION:
LAST-MODIFIED:20260423T131924
LOCATION:
SUMMARY:Prayer Meeting
URL;VALUE=URI:https://www.secondbaptistwf.org/events/prayer-meeting/2026-10
 -11
END:VEVENT
END:VCALENDAR
