BEGIN:VCALENDAR
VERSION:2.0
PRODID:icalendar-ruby
CALSCALE:GREGORIAN
METHOD:PUBLISH
BEGIN:VEVENT
DTSTAMP:20260423T172332Z
UID:16-1555335@secondbaptistwf.org
DTSTART:20261004T133000Z
DTEND:20261004T140000Z
CLASS:PUBLIC
CREATED:20260423T102252
DESCRIPTION:
LAST-MODIFIED:20260423T102252
LOCATION:
SUMMARY:Prayer Meeting
URL;VALUE=URI:https://www.secondbaptistwf.org/events/prayer-meeting/2026-10
 -04
END:VEVENT
END:VCALENDAR
