BEGIN:VCALENDAR
VERSION:2.0
PRODID:icalendar-ruby
CALSCALE:GREGORIAN
METHOD:PUBLISH
BEGIN:VEVENT
DTSTAMP:20260423T160749Z
UID:16-1555334@secondbaptistwf.org
DTSTART:20260927T133000Z
DTEND:20260927T140000Z
CLASS:PUBLIC
CREATED:20260423T102252
DESCRIPTION:
LAST-MODIFIED:20260423T102252
LOCATION:
SUMMARY:Prayer Meeting
URL;VALUE=URI:https://www.secondbaptistwf.org/events/prayer-meeting/2026-09
 -27
END:VEVENT
END:VCALENDAR
