BEGIN:VCALENDAR
VERSION:2.0
PRODID:icalendar-ruby
CALSCALE:GREGORIAN
METHOD:PUBLISH
BEGIN:VEVENT
DTSTAMP:20260423T144148Z
UID:16-1554666@secondbaptistwf.org
DTSTART:20260920T133000Z
DTEND:20260920T140000Z
CLASS:PUBLIC
CREATED:20260423T073021
DESCRIPTION:
LAST-MODIFIED:20260423T073021
LOCATION:
SUMMARY:Prayer Meeting
URL;VALUE=URI:https://www.secondbaptistwf.org/events/prayer-meeting/2026-09
 -20
END:VEVENT
END:VCALENDAR
