BEGIN:VCALENDAR
VERSION:2.0
PRODID:icalendar-ruby
CALSCALE:GREGORIAN
METHOD:PUBLISH
BEGIN:VEVENT
DTSTAMP:20260423T005918Z
UID:16-1553331@secondbaptistwf.org
DTSTART:20260913T133000Z
DTEND:20260913T140000Z
CLASS:PUBLIC
CREATED:20260422T190556
DESCRIPTION:
LAST-MODIFIED:20260422T190556
LOCATION:
SUMMARY:Prayer Meeting
URL;VALUE=URI:https://www.secondbaptistwf.org/events/prayer-meeting/2026-09
 -13
END:VEVENT
END:VCALENDAR
