BEGIN:VCALENDAR
VERSION:2.0
PRODID:icalendar-ruby
CALSCALE:GREGORIAN
METHOD:PUBLISH
BEGIN:VEVENT
DTSTAMP:20260422T232516Z
UID:16-1552664@secondbaptistwf.org
DTSTART:20260906T133000Z
DTEND:20260906T140000Z
CLASS:PUBLIC
CREATED:20260422T161415
DESCRIPTION:
LAST-MODIFIED:20260422T161415
LOCATION:
SUMMARY:Prayer Meeting
URL;VALUE=URI:https://www.secondbaptistwf.org/events/prayer-meeting/2026-09
 -06
END:VEVENT
END:VCALENDAR
