BEGIN:VCALENDAR
VERSION:2.0
PRODID:icalendar-ruby
CALSCALE:GREGORIAN
METHOD:PUBLISH
BEGIN:VEVENT
DTSTAMP:20260422T215043Z
UID:16-1552663@secondbaptistwf.org
DTSTART:20260830T133000Z
DTEND:20260830T140000Z
CLASS:PUBLIC
CREATED:20260422T161415
DESCRIPTION:
LAST-MODIFIED:20260422T161415
LOCATION:
SUMMARY:Prayer Meeting
URL;VALUE=URI:https://www.secondbaptistwf.org/events/prayer-meeting/2026-08
 -30
END:VEVENT
END:VCALENDAR
