BEGIN:VCALENDAR
VERSION:2.0
PRODID:icalendar-ruby
CALSCALE:GREGORIAN
METHOD:PUBLISH
BEGIN:VEVENT
DTSTAMP:20260422T201542Z
UID:16-1551998@secondbaptistwf.org
DTSTART:20260823T133000Z
DTEND:20260823T140000Z
CLASS:PUBLIC
CREATED:20260422T131859
DESCRIPTION:
LAST-MODIFIED:20260422T131859
LOCATION:
SUMMARY:Prayer Meeting
URL;VALUE=URI:https://www.secondbaptistwf.org/events/prayer-meeting/2026-08
 -23
END:VEVENT
END:VCALENDAR
