BEGIN:VCALENDAR
VERSION:2.0
PRODID:icalendar-ruby
CALSCALE:GREGORIAN
METHOD:PUBLISH
BEGIN:VEVENT
DTSTAMP:20260422T183208Z
UID:16-1551997@secondbaptistwf.org
DTSTART:20260816T133000Z
DTEND:20260816T140000Z
CLASS:PUBLIC
CREATED:20260422T131859
DESCRIPTION:
LAST-MODIFIED:20260422T131859
LOCATION:
SUMMARY:Prayer Meeting
URL;VALUE=URI:https://www.secondbaptistwf.org/events/prayer-meeting/2026-08
 -16
END:VEVENT
END:VCALENDAR
