BEGIN:VCALENDAR
VERSION:2.0
PRODID:icalendar-ruby
CALSCALE:GREGORIAN
METHOD:PUBLISH
BEGIN:VEVENT
DTSTAMP:20260422T134234Z
UID:16-1550666@secondbaptistwf.org
DTSTART:20260726T133000Z
DTEND:20260726T140000Z
CLASS:PUBLIC
CREATED:20260422T072903
DESCRIPTION:
LAST-MODIFIED:20260422T072903
LOCATION:
SUMMARY:Prayer Meeting
URL;VALUE=URI:https://www.secondbaptistwf.org/events/prayer-meeting/2026-07
 -26
END:VEVENT
END:VCALENDAR
