BEGIN:VCALENDAR
VERSION:2.0
PRODID:icalendar-ruby
CALSCALE:GREGORIAN
METHOD:PUBLISH
BEGIN:VEVENT
DTSTAMP:20260421T085235Z
UID:13-1545866@secondbaptistwf.org
DTSTART:20261028T230000Z
DTEND:20261028T234500Z
CLASS:PUBLIC
CREATED:20260420T200643
DESCRIPTION:
LAST-MODIFIED:20260420T200643
LOCATION:
SUMMARY:Prayer Meeting
URL;VALUE=URI:https://www.secondbaptistwf.org/events/prayer-meeting--13/202
 6-10-28
END:VEVENT
END:VCALENDAR
