BEGIN:VCALENDAR
VERSION:2.0
PRODID:icalendar-ruby
CALSCALE:GREGORIAN
METHOD:PUBLISH
BEGIN:VEVENT
DTSTAMP:20260420T083147Z
UID:13-1541870@secondbaptistwf.org
DTSTART:20260722T230000Z
DTEND:20260722T234500Z
CLASS:PUBLIC
CREATED:20260420T023207
DESCRIPTION:
LAST-MODIFIED:20260420T023207
LOCATION:
SUMMARY:Prayer Meeting
URL;VALUE=URI:https://www.secondbaptistwf.org/events/prayer-meeting--13/202
 6-07-22
END:VEVENT
END:VCALENDAR
