BEGIN:VCALENDAR
VERSION:2.0
PRODID:icalendar-ruby
CALSCALE:GREGORIAN
METHOD:PUBLISH
BEGIN:VEVENT
DTSTAMP:20260423T073447Z
UID:17-1554087@secondbaptistwf.org
DTSTART:20261026T131500Z
DTEND:20261026T141500Z
CLASS:PUBLIC
CREATED:20260422T220006
DESCRIPTION:
LAST-MODIFIED:20260422T220006
LOCATION:
SUMMARY:Men's Prayer Group
URL;VALUE=URI:https://www.secondbaptistwf.org/events/mens-prayer-group/2026
 -10-26
END:VEVENT
END:VCALENDAR
