BEGIN:VCALENDAR
VERSION:2.0
PRODID:icalendar-ruby
CALSCALE:GREGORIAN
METHOD:PUBLISH
BEGIN:VEVENT
DTSTAMP:20260423T012732Z
UID:17-1553416@secondbaptistwf.org
DTSTART:20260928T131500Z
DTEND:20260928T141500Z
CLASS:PUBLIC
CREATED:20260422T190557
DESCRIPTION:
LAST-MODIFIED:20260422T190557
LOCATION:
SUMMARY:Men's Prayer Group
URL;VALUE=URI:https://www.secondbaptistwf.org/events/mens-prayer-group/2026
 -09-28
END:VEVENT
END:VCALENDAR
