BEGIN:VCALENDAR
VERSION:2.0
PRODID:icalendar-ruby
CALSCALE:GREGORIAN
METHOD:PUBLISH
BEGIN:VEVENT
DTSTAMP:20260422T215924Z
UID:17-1552748@secondbaptistwf.org
DTSTART:20260914T131500Z
DTEND:20260914T141500Z
CLASS:PUBLIC
CREATED:20260422T161415
DESCRIPTION:
LAST-MODIFIED:20260422T161415
LOCATION:
SUMMARY:Men's Prayer Group
URL;VALUE=URI:https://www.secondbaptistwf.org/events/mens-prayer-group/2026
 -09-14
END:VEVENT
END:VCALENDAR
