BEGIN:VCALENDAR
VERSION:2.0
PRODID:icalendar-ruby
CALSCALE:GREGORIAN
METHOD:PUBLISH
BEGIN:VEVENT
DTSTAMP:20260422T183812Z
UID:17-1552082@secondbaptistwf.org
DTSTART:20260831T131500Z
DTEND:20260831T141500Z
CLASS:PUBLIC
CREATED:20260422T131900
DESCRIPTION:
LAST-MODIFIED:20260422T131900
LOCATION:
SUMMARY:Men's Prayer Group
URL;VALUE=URI:https://www.secondbaptistwf.org/events/mens-prayer-group/2026
 -08-31
END:VEVENT
END:VCALENDAR
