BEGIN:VCALENDAR
VERSION:2.0
PRODID:icalendar-ruby
CALSCALE:GREGORIAN
METHOD:PUBLISH
BEGIN:VEVENT
DTSTAMP:20260422T165546Z
UID:17-1551417@secondbaptistwf.org
DTSTART:20260824T131500Z
DTEND:20260824T141500Z
CLASS:PUBLIC
CREATED:20260422T102413
DESCRIPTION:
LAST-MODIFIED:20260422T102413
LOCATION:
SUMMARY:Men's Prayer Group
URL;VALUE=URI:https://www.secondbaptistwf.org/events/mens-prayer-group/2026
 -08-24
END:VEVENT
END:VCALENDAR
