BEGIN:VCALENDAR
VERSION:2.0
PRODID:icalendar-ruby
CALSCALE:GREGORIAN
METHOD:PUBLISH
BEGIN:VEVENT
DTSTAMP:20260422T151940Z
UID:17-1550752@secondbaptistwf.org
DTSTART:20260817T131500Z
DTEND:20260817T141500Z
CLASS:PUBLIC
CREATED:20260422T072903
DESCRIPTION:
LAST-MODIFIED:20260422T072903
LOCATION:
SUMMARY:Men's Prayer Group
URL;VALUE=URI:https://www.secondbaptistwf.org/events/mens-prayer-group/2026
 -08-17
END:VEVENT
END:VCALENDAR
