BEGIN:VCALENDAR
VERSION:2.0
PRODID:icalendar-ruby
CALSCALE:GREGORIAN
METHOD:PUBLISH
BEGIN:VEVENT
DTSTAMP:20260422T115507Z
UID:17-1550086@secondbaptistwf.org
DTSTART:20260803T131500Z
DTEND:20260803T141500Z
CLASS:PUBLIC
CREATED:20260421T202205
DESCRIPTION:
LAST-MODIFIED:20260421T202205
LOCATION:
SUMMARY:Men's Prayer Group
URL;VALUE=URI:https://www.secondbaptistwf.org/events/mens-prayer-group/2026
 -08-03
END:VEVENT
END:VCALENDAR
