BEGIN:VCALENDAR
VERSION:2.0
PRODID:icalendar-ruby
CALSCALE:GREGORIAN
METHOD:PUBLISH
BEGIN:VEVENT
DTSTAMP:20260422T101941Z
UID:17-1550085@secondbaptistwf.org
DTSTART:20260727T131500Z
DTEND:20260727T141500Z
CLASS:PUBLIC
CREATED:20260421T202205
DESCRIPTION:
LAST-MODIFIED:20260421T202205
LOCATION:
SUMMARY:Men's Prayer Group
URL;VALUE=URI:https://www.secondbaptistwf.org/events/mens-prayer-group/2026
 -07-27
END:VEVENT
END:VCALENDAR
