BEGIN:VCALENDAR
VERSION:2.0
PRODID:icalendar-ruby
CALSCALE:GREGORIAN
METHOD:PUBLISH
BEGIN:VEVENT
DTSTAMP:20260421T084329Z
UID:11-1545783@secondbaptistwf.org
DTSTART:20261028T223000Z
DTEND:20261029T000000Z
CLASS:PUBLIC
CREATED:20260420T200643
DESCRIPTION:
LAST-MODIFIED:20260420T200643
LOCATION:
SUMMARY:Kidz Klub
URL;VALUE=URI:https://www.secondbaptistwf.org/events/kidz-klub/2026-10-28
END:VEVENT
END:VCALENDAR
