BEGIN:VCALENDAR
VERSION:2.0
PRODID:icalendar-ruby
CALSCALE:GREGORIAN
METHOD:PUBLISH
BEGIN:VEVENT
DTSTAMP:20260421T083029Z
UID:9-1545699@secondbaptistwf.org
DTSTART:20261025T230000Z
DTEND:20261026T000000Z
CLASS:PUBLIC
CREATED:20260420T200642
DESCRIPTION:Evening Service
LAST-MODIFIED:20260420T200642
LOCATION:
SUMMARY:Evening Service
URL;VALUE=URI:https://www.secondbaptistwf.org/events/evening-service/2026-1
 0-25
END:VEVENT
END:VCALENDAR
