BEGIN:VCALENDAR
VERSION:2.0
PRODID:icalendar-ruby
CALSCALE:GREGORIAN
METHOD:PUBLISH
BEGIN:VEVENT
DTSTAMP:20260421T085008Z
UID:14-1545949@secondbaptistwf.org
DTSTART:20261028T234500Z
DTEND:20261029T003000Z
CLASS:PUBLIC
CREATED:20260420T200643
DESCRIPTION:
LAST-MODIFIED:20260420T200643
LOCATION:
SUMMARY:Adult Bible Study
URL;VALUE=URI:https://www.secondbaptistwf.org/events/adult-bible-study/2026
 -10-28
END:VEVENT
END:VCALENDAR
