BEGIN:VCALENDAR
VERSION:2.0
PRODID:icalendar-ruby
CALSCALE:GREGORIAN
METHOD:PUBLISH
BEGIN:VEVENT
DTSTAMP:20260420T083308Z
UID:14-1541953@secondbaptistwf.org
DTSTART:20260722T234500Z
DTEND:20260723T003000Z
CLASS:PUBLIC
CREATED:20260420T023207
DESCRIPTION:
LAST-MODIFIED:20260420T023207
LOCATION:
SUMMARY:Adult Bible Study
URL;VALUE=URI:https://www.secondbaptistwf.org/events/adult-bible-study/2026
 -07-22
END:VEVENT
END:VCALENDAR
